BEGIN:VCALENDAR
VERSION:2.0
PRODID:-//Die KuBa-Halle
CALSCALE:GREGORIAN
METHOD:PUBLISH
X-WR-CALNAME:Die KuBa-Halle
X-ORIGINAL-URL:https://kuba-halle.de/produkt/ravemitdave-vol-4-techno-edition
X-WR-CALDESC:RaveMitDave vol.4 Techno Edition
BEGIN:VEVENT
DTSTART;TZID=Europe/Paris:20200207T220000
DTEND;TZID=Europe/Paris:20200207T000000
SUMMARY:RaveMitDave vol.4 Techno Edition
DESCRIPTION:Nur Abendkasse !
URL:https://kuba-halle.de/produkt/ravemitdave-vol-4-techno-edition
LOCATION:
END:VEVENT
END:VCALENDAR
