BEGIN:VCALENDAR
VERSION:2.0
PRODID:-//Die KuBa-Halle
CALSCALE:GREGORIAN
METHOD:PUBLISH
X-WR-CALNAME:Die KuBa-Halle
X-ORIGINAL-URL:https://kuba-halle.de/produkt/november-rock
X-WR-CALDESC:November Rock:  HOTFILTER * KANTZLR * THE SMOKING LIVERS
BEGIN:VEVENT
DTSTART;TZID=Europe/Paris:20231118T190000
DTEND;TZID=Europe/Paris:20231118T000000
SUMMARY:November Rock:  HOTFILTER * KANTZLR * THE SMOKING LIVERS
DESCRIPTION:Tickets nur an der Abendkasse!

8,- €/erm. 6,- €
URL:https://kuba-halle.de/produkt/november-rock
LOCATION:
END:VEVENT
END:VCALENDAR
